BEGIN:VCALENDAR
VERSION:2.0
PRODID:-//Paul Galles - ECPv4.7.2//NONSGML v1.0//EN
CALSCALE:GREGORIAN
METHOD:PUBLISH
X-WR-CALNAME:Paul Galles
X-ORIGINAL-URL:http://www.paulgalles.lu
X-WR-CALDESC:Events for Paul Galles
BEGIN:VEVENT
DTSTART;TZID=UTC+1:20171224T183000
DTEND;TZID=UTC+1:20171224T183000
DTSTAMP:20190823T074407
CREATED:20170925T025647Z
LAST-MODIFIED:20171213T150648Z
UID:195-1514140200-1514140200@www.paulgalles.lu
SUMMARY:Helleg Owend am Stall
DESCRIPTION:Mäi grousse Wonsch ass\, d’Leit zesummen ze brëngen\, sou dass se eng gutt Zäit erliewen an herno méi frou heem ginn. Et soll eppes sinn ﬁr d’Kanner\, ﬁr d’Familjen\, ﬁr déi Eeler\, ﬁr jiddfereen. Dobäi versichen ech mat menge Kol-legen\, ë bëssen eppes Extraës z’organiséieren\, wéi z.B. d’Chrëschtveillée op Helleg Owend an engem richtege Stall mat richtege Béischten bei engem richtege Bauer. An um Ufank vum Joër organiséieren ech da mat Frënn dee richteg coolen Chrëschtbeemchen-Wäitworf\, wou mer all weise kënne\, wat mer kënnen: beim Werfe\, beim Grill\, beim Comptoir a beim Spenden! Virun e puer Joër hate mer am «Haus vun der Natur» och dat 1.Lëtzebuerger Piss-blummefest organiséiert mat super leckerem Pissblummegebees a wonnerbarer Pissblummenzalot. \n
URL:http://www.paulgalles.lu/event/helleg-owend-am-stall/
LOCATION:7 Rue Grande-Duchesse Charlotte L-7430 Fischbach\, 7 Rue Grande-Duchesse Charlotte\, Fischbach\, L-7430\, Luxembourg
ATTACH;FMTTYPE=image/jpeg:http://www.paulgalles.lu/wp-content/uploads/2017/09/IMG_7732.jpg
END:VEVENT
END:VCALENDAR