BEGIN:VCALENDAR
VERSION:2.0
PRODID:-//Paul Galles - ECPv4.7.2//NONSGML v1.0//EN
CALSCALE:GREGORIAN
METHOD:PUBLISH
X-WR-CALNAME:Paul Galles
X-ORIGINAL-URL:http://www.paulgalles.lu
X-WR-CALDESC:Events for Paul Galles
BEGIN:VEVENT
DTSTART;TZID=UTC+0:20180706T200000
DTEND;TZID=UTC+0:20180706T230000
DTSTAMP:20190823T074438
CREATED:20180812T231049Z
LAST-MODIFIED:20180812T231049Z
UID:826-1530907200-1530918000@www.paulgalles.lu
SUMMARY:Poetry Slam zu Nidderaanven
DESCRIPTION:Et gëtt dach näischt méi Schéines\, wéi mat Wieder a Sprooch ze spillen! Am Kulturhaus zu Nidderaanven fënnt regelméisseg ee richteg coole Poetry Slam mam Luc Spada a mam Michel Abdollahi statt\, an dës Kéier sinn ech derbäi. Vläicht jo mat engem Text iwwert meng Rees an de Japan? Oder iwwer d’Futtball-WM? Oder eppes ganz anescht…? \n
URL:http://www.paulgalles.lu/event/poetry-slam-zu-nidderaanven/
ATTACH;FMTTYPE=image/jpeg:http://www.paulgalles.lu/wp-content/uploads/2018/08/IMG_5887-e1534115283194.jpg
END:VEVENT
END:VCALENDAR