BEGIN:VCALENDAR
VERSION:2.0
PRODID:-//Paul Galles - ECPv4.7.2//NONSGML v1.0//EN
CALSCALE:GREGORIAN
METHOD:PUBLISH
X-WR-CALNAME:Paul Galles
X-ORIGINAL-URL:http://www.paulgalles.lu
X-WR-CALDESC:Events for Paul Galles
BEGIN:VEVENT
DTSTART;VALUE=DATE:20180822
DTEND;VALUE=DATE:20180827
DTSTAMP:20190822T080243
CREATED:20180812T210212Z
LAST-MODIFIED:20180812T211928Z
UID:791-1534896000-1535327999@www.paulgalles.lu
SUMMARY:Université d'été à St.Malo
DESCRIPTION:Young Caritas ass mëttlerweil ee weltwäit Netzwierk ginn. Vum 22. bis de 26.August huelen 10 Lëtzebuerger Jonker un der “Summer University” vu Young Caritas Frankräich deel mat ronn 800 Participanten! Déi 5 Deeg bestinn aus Visiten\, Workshops\, Party\, Zelten\, Meditatioun a natirlech ganz vill neie Frëndschaften. \nFir méi Infos: https://ue-stmalo.wixsite.com/youngcaritas an www.youngcaritas.lu/events \nThema: I have a (green) dream! \n
URL:http://www.paulgalles.lu/event/universite-dete-st-malo/
ATTACH;FMTTYPE=image/jpeg:http://www.paulgalles.lu/wp-content/uploads/2018/08/I-have-a-green-dream.jpg
END:VEVENT
END:VCALENDAR