BEGIN:VCALENDAR
VERSION:2.0
PRODID:-//Paul Galles - ECPv4.7.2//NONSGML v1.0//EN
CALSCALE:GREGORIAN
METHOD:PUBLISH
X-WR-CALNAME:Paul Galles
X-ORIGINAL-URL:http://www.paulgalles.lu
X-WR-CALDESC:Events for Paul Galles
BEGIN:VEVENT
DTSTART;TZID=UTC+0:20171005T190000
DTEND;TZID=UTC+0:20171005T190000
DTSTAMP:20190823T074357
CREATED:20171003T131419Z
LAST-MODIFIED:20171004T063742Z
UID:563-1507230000-1507230000@www.paulgalles.lu
SUMMARY:Wahlversammlung
DESCRIPTION:Wahlversammlung vun CSV Stad um Belair am Centre culturel « Schéiss » \n
URL:http://www.paulgalles.lu/event/wahlversammlung/
LOCATION:142\, Val sainte croix\, 142\, Val sainte croix\, Luxembourg\, LUXEMBOURG\, 1370\, Luxembourg
ATTACH;FMTTYPE=image/jpeg:http://www.paulgalles.lu/wp-content/uploads/2017/09/graphical_mockups00-5.jpg
END:VEVENT
END:VCALENDAR