BEGIN:VCALENDAR
VERSION:2.0
PRODID:-//Paul Galles - ECPv4.7.2//NONSGML v1.0//EN
CALSCALE:GREGORIAN
METHOD:PUBLISH
X-WR-CALNAME:Paul Galles
X-ORIGINAL-URL:http://www.paulgalles.lu
X-WR-CALDESC:Events for Paul Galles
BEGIN:VEVENT
DTSTART;VALUE=DATE:20180813
DTEND;VALUE=DATE:20180822
DTSTAMP:20190823T074321
CREATED:20180812T204842Z
LAST-MODIFIED:20180812T211857Z
UID:782-1534118400-1534895999@www.paulgalles.lu
SUMMARY:YOUrovelo 2018 - een Integratiounsprojet mat Young Caritas
DESCRIPTION:All Summer organiséieren ech mat Young Caritas de megacoolen europäesche Projet „YOUropean“! 🌞 Dëst Joer ass et vum 13.8. bis 21.8. hei an eisem wonnerschéine Land! \nDa fueren 32 Jonker (Jugendlecher aus Georgien\, Südtirol\, Lëtzebuerg a jonk Flüchtlingen) mam Velo queesch duerch eist Land\, schléisse Frëndschaft an entdecken dKulturen. 🚴🏻‍♂️🚵🏻‍♀️🌳🌲⛱\nEtappen vum „YOUrovelo 2018“: Stad – Mariendall – Iechternach – Remerschen – Stad. 🗺\nWann der eis begleede wëllt: https://www.facebook.com/youropeanmontlux/\nA wann der eis begéine wëllt\, sot Bescheed!\nHärzlech wëllkomm! 😍\n#youropean #yourovelo #erasmusplus \n
URL:http://www.paulgalles.lu/event/yourovelo-2018-een-integratiounsprojet-mat-young-caritas/
LOCATION:Luxembourg\, Luxembourg
ATTACH;FMTTYPE=image/jpeg:http://www.paulgalles.lu/wp-content/uploads/2018/08/YOUrovelo-2018.jpg
END:VEVENT
END:VCALENDAR