BEGIN:VCALENDAR
VERSION:2.0
PRODID:-//Paul Galles - ECPv4.7.2//NONSGML v1.0//EN
CALSCALE:GREGORIAN
METHOD:PUBLISH
X-WR-CALNAME:Paul Galles
X-ORIGINAL-URL:http://www.paulgalles.lu
X-WR-CALDESC:Events for Paul Galles
BEGIN:VEVENT
DTSTART;TZID=UTC+0:20180205T143000
DTEND;TZID=UTC+0:20180205T170000
DTSTAMP:20190823T074429
CREATED:20180130T163342Z
LAST-MODIFIED:20180812T231447Z
UID:693-1517841000-1517850000@www.paulgalles.lu
SUMMARY:Budgetsdiskussioun am Gemengeroot
DESCRIPTION:Bei de Budgetsdiskussioune geet et drëms\, d’Ziiler fir dat next Joer festzeleeën an déi entspriechend Mëttelen dofir fräi ze maachen. Ech kucken eise Budget ënnert engem sozialen Blëckwënkel a plädéieren fir ee Budget\, deen och déi Schwächst net vergësst. \n
URL:http://www.paulgalles.lu/event/budgetsdiskussioun-am-gemengeroot/
LOCATION:Gemeng Stad Letzebuerg\, Place Guillaume II\, Luxembourg\, Luxembourg
END:VEVENT
END:VCALENDAR