BEGIN:VCALENDAR
VERSION:2.0
PRODID:-//Paul Galles - ECPv4.7.2//NONSGML v1.0//EN
CALSCALE:GREGORIAN
METHOD:PUBLISH
X-WR-CALNAME:Paul Galles
X-ORIGINAL-URL:http://www.paulgalles.lu
X-WR-CALDESC:Events for Paul Galles
BEGIN:VEVENT
DTSTART;TZID=UTC+0:20181224T170000
DTEND;TZID=UTC+0:20181224T200000
DTSTAMP:20190822T075804
CREATED:20181126T193604Z
LAST-MODIFIED:20181204T204504Z
UID:3069-1545670800-1545681600@www.paulgalles.lu
SUMMARY:Hellegowend 2018 am Stall
DESCRIPTION:Och dëst Joër erem: Hellegowend am Stall! Hei sinn all Infos an ENG GROUSS NEIEGKEET. Et ginn dest Joer nämlech 2 Feieren\, an et muss een sech umelden. \nMee opgepasst: d’Feier vu 17h00 ass scho voll (säit dem 4.12.)\, dofir gëtt et eng WAARDELËSCHT. An der Feier vun 18h30 ass nach genuch Plaz. \nHei geet et direkt bei d’Umeldung: \nUMELDUNG \n  \nEm wat geet et eis am Stall? \nDe Flair vu Chrëschtdag erementdecken: eng kleng Chrëschtveillée mat Musek\, Geschichten an engem Gebiet\, gestaltet vum Linda a vum Paul\, mat Musek vum Joss\, fir all déi\, déi\n– d’Atmosphär vu Chrëschtdag gären erliewen\n– familiär iwwert den Dag verhënnert sinn an owes eng kleng Stëndchen Zäit hunn\n– eppes anescht erliewe wëllen\, ganz originell\, an engem Stall bei de Béischten\, ähnlech wéi et deemols vläicht wierklech war\n– sech op ganz schéin Musek freeën \n  \nWAT ASS DËST JOER NEI? \n– Mir maachen 2 Feieren (eng um 17h00 an eng um 18h30)\, a mir kënne fir all Feier maximal 100 Leit eraloossen. \n– GANZ WICHTEG: ET MUSS EE SECH UMELDEN! Hei ass de Site: paulgalles.wixsite.com/hellegowend \nWa mer 100 Umeldungen erreecht hunn\, setze mer iech op d’Waardelëscht a soen iech Bescheed. \n  \nWichteg Infos:\n– Wou et genau ass: zu Fëschbëch op 6\, rue Grande-Duchesse Charlotte (7430 Fëschbëch)\n– Wou der parke kënnt: 2 Méiglechkeeten: entweder uewen hannert der Kierch oder bei der Entrée aus Richtung Miersch\n– Sprooch: Lëtzebuergesch (mee all Sprooche si wëllkomm)\n– Wat et no der “Veillée” nach gëtt: Glühwäin a waarem Mëllech direkt vun der Kou\, bio a fair gestrach! 🙂 Eis Propose: dir brëngt är eegen Taass mat\, da bleiwe mer nohalteg. Wee keng derbäi huet\, kritt trotzdeem ee Becher vun eis. 😉 \n
URL:http://www.paulgalles.lu/event/hellegowend-2018-am-stall/
LOCATION:6\, Rue Grande-Duchesse Charlotte\, 7430 Fischbach\, 6\, Rue Grande-Duchesse Charlotte\, Fischbach\, Luxemburg (LUX)\, 7430\, Luxembourg
ATTACH;FMTTYPE=image/jpeg:http://www.paulgalles.lu/wp-content/uploads/2018/11/IMG_7725.jpeg
ORGANIZER;CN="Paul%20Galles":MAILTO:paulgalles@gmail.com
END:VEVENT
END:VCALENDAR